BEGIN:VCALENDAR
VERSION:2.0
PRODID:-//Faustball STV Schlieren - ECPv5.12.3//NONSGML v1.0//EN
CALSCALE:GREGORIAN
METHOD:PUBLISH
X-WR-CALNAME:Faustball STV Schlieren
X-ORIGINAL-URL:https://faustballschlieren.ch
X-WR-CALDESC:Events for Faustball STV Schlieren
REFRESH-INTERVAL;VALUE=DURATION:PT1H
X-Robots-Tag:noindex
X-PUBLISHED-TTL:PT1H
BEGIN:VTIMEZONE
TZID:Europe/Zurich
BEGIN:DAYLIGHT
TZOFFSETFROM:+0100
TZOFFSETTO:+0200
TZNAME:CEST
DTSTART:20240331T010000
END:DAYLIGHT
BEGIN:STANDARD
TZOFFSETFROM:+0200
TZOFFSETTO:+0100
TZNAME:CET
DTSTART:20241027T010000
END:STANDARD
END:VTIMEZONE
BEGIN:VEVENT
DTSTART;VALUE=DATE:20241005
DTEND;VALUE=DATE:20241007
DTSTAMP:20260419T163528
CREATED:20240228T172616Z
LAST-MODIFIED:20240228T173026Z
UID:19147-1728086400-1728259199@faustballschlieren.ch
SUMMARY:EFA Jugend-Europapokal (JEP)
DESCRIPTION:
URL:https://faustballschlieren.ch/event/jugend-europapokal-jep/
LOCATION:Widnau\, Sportzentrum Aegeten\, Aegetenstrasse 60\, Widnau\, 9443
CATEGORIES:Nachwuchs
END:VEVENT
END:VCALENDAR