BEGIN:VCALENDAR
VERSION:2.0
PRODID:-//Faustball STV Schlieren - ECPv5.12.3//NONSGML v1.0//EN
CALSCALE:GREGORIAN
METHOD:PUBLISH
X-WR-CALNAME:Faustball STV Schlieren
X-ORIGINAL-URL:https://faustballschlieren.ch
X-WR-CALDESC:Events for Faustball STV Schlieren
REFRESH-INTERVAL;VALUE=DURATION:PT1H
X-Robots-Tag:noindex
X-PUBLISHED-TTL:PT1H
BEGIN:VTIMEZONE
TZID:Europe/Zurich
BEGIN:DAYLIGHT
TZOFFSETFROM:+0100
TZOFFSETTO:+0200
TZNAME:CEST
DTSTART:20260329T010000
END:DAYLIGHT
BEGIN:STANDARD
TZOFFSETFROM:+0200
TZOFFSETTO:+0100
TZNAME:CET
DTSTART:20261025T010000
END:STANDARD
END:VTIMEZONE
BEGIN:VEVENT
DTSTART;TZID=Europe/Zurich:20260815T100000
DTEND;TZID=Europe/Zurich:20260815T150000
DTSTAMP:20260421T153522
CREATED:20260419T185302Z
LAST-MODIFIED:20260419T185335Z
UID:20862-1786788000-1786806000@faustballschlieren.ch
SUMMARY:NLB Ost Männer 6. Runde
DESCRIPTION:
URL:https://faustballschlieren.ch/event/nlb-ost-maenner-6-runde-2026/
LOCATION:Widnau\, Sportanlage Luegwies\, Kapellweg 53\, Widnau\, 9443
CATEGORIES:Elite Männer
END:VEVENT
END:VCALENDAR