BEGIN:VCALENDAR
VERSION:2.0
PRODID:-//Faustball STV Schlieren - ECPv5.12.3//NONSGML v1.0//EN
CALSCALE:GREGORIAN
METHOD:PUBLISH
X-WR-CALNAME:Faustball STV Schlieren
X-ORIGINAL-URL:https://faustballschlieren.ch
X-WR-CALDESC:Events for Faustball STV Schlieren
REFRESH-INTERVAL;VALUE=DURATION:PT1H
X-Robots-Tag:noindex
X-PUBLISHED-TTL:PT1H
BEGIN:VTIMEZONE
TZID:Europe/Zurich
BEGIN:DAYLIGHT
TZOFFSETFROM:+0100
TZOFFSETTO:+0200
TZNAME:CEST
DTSTART:20240331T010000
END:DAYLIGHT
BEGIN:STANDARD
TZOFFSETFROM:+0200
TZOFFSETTO:+0100
TZNAME:CET
DTSTART:20241027T010000
END:STANDARD
BEGIN:DAYLIGHT
TZOFFSETFROM:+0100
TZOFFSETTO:+0200
TZNAME:CEST
DTSTART:20250330T010000
END:DAYLIGHT
BEGIN:STANDARD
TZOFFSETFROM:+0200
TZOFFSETTO:+0100
TZNAME:CET
DTSTART:20251026T010000
END:STANDARD
END:VTIMEZONE
BEGIN:VEVENT
DTSTART;TZID=Europe/Zurich:20240608T130000
DTEND;TZID=Europe/Zurich:20240608T160000
DTSTAMP:20260421T172514
CREATED:20240228T180035Z
LAST-MODIFIED:20240428T215935Z
UID:19170-1717851600-1717862400@faustballschlieren.ch
SUMMARY:NLB Ost Männer 4. Runde
DESCRIPTION:
URL:https://faustballschlieren.ch/event/nlb-ost-maenner-4-runde/
LOCATION:Widnau\, Sportanlage Luegwies\, Kapellweg 53\, Widnau\, 9443
CATEGORIES:Elite Männer
END:VEVENT
BEGIN:VEVENT
DTSTART;TZID=Europe/Zurich:20250628T120000
DTEND;TZID=Europe/Zurich:20250628T150000
DTSTAMP:20260421T172514
CREATED:20250420T082550Z
LAST-MODIFIED:20250420T082550Z
UID:20038-1751112000-1751122800@faustballschlieren.ch
SUMMARY:NLB Ost Männer 6. Runde
DESCRIPTION:
URL:https://faustballschlieren.ch/event/nlb-ost-maenner-6-runde-2/
LOCATION:Widnau\, Sportanlage Luegwies\, Kapellweg 53\, Widnau\, 9443
CATEGORIES:Elite Männer
END:VEVENT
END:VCALENDAR