BEGIN:VCALENDAR
VERSION:2.0
PRODID:-//Faustball STV Schlieren - ECPv5.12.3//NONSGML v1.0//EN
CALSCALE:GREGORIAN
METHOD:PUBLISH
X-WR-CALNAME:Faustball STV Schlieren
X-ORIGINAL-URL:https://faustballschlieren.ch
X-WR-CALDESC:Events for Faustball STV Schlieren
REFRESH-INTERVAL;VALUE=DURATION:PT1H
X-Robots-Tag:noindex
X-PUBLISHED-TTL:PT1H
BEGIN:VTIMEZONE
TZID:Europe/Zurich
BEGIN:DAYLIGHT
TZOFFSETFROM:+0100
TZOFFSETTO:+0200
TZNAME:CEST
DTSTART:20240331T010000
END:DAYLIGHT
BEGIN:STANDARD
TZOFFSETFROM:+0200
TZOFFSETTO:+0100
TZNAME:CET
DTSTART:20241027T010000
END:STANDARD
END:VTIMEZONE
BEGIN:VEVENT
DTSTART;TZID=Europe/Zurich:20241207T180000
DTEND;TZID=Europe/Zurich:20241207T220000
DTSTAMP:20260420T140712
CREATED:20240309T121922Z
LAST-MODIFIED:20250420T102527Z
UID:19226-1733594400-1733608800@faustballschlieren.ch
SUMMARY:Chlaushöck
DESCRIPTION:
URL:https://faustballschlieren.ch/event/chlaushoeck-2/
LOCATION:Schlieren\, Altes Schulhaus\, Freiestrasse 10\, Schlieren\, 8952
CATEGORIES:Verein allgemein
END:VEVENT
END:VCALENDAR