BEGIN:VCALENDAR
VERSION:2.0
PRODID:-//Faustball STV Schlieren - ECPv5.12.3//NONSGML v1.0//EN
CALSCALE:GREGORIAN
METHOD:PUBLISH
X-WR-CALNAME:Faustball STV Schlieren
X-ORIGINAL-URL:https://faustballschlieren.ch
X-WR-CALDESC:Events for Faustball STV Schlieren
REFRESH-INTERVAL;VALUE=DURATION:PT1H
X-Robots-Tag:noindex
X-PUBLISHED-TTL:PT1H
BEGIN:VTIMEZONE
TZID:Europe/Zurich
BEGIN:DAYLIGHT
TZOFFSETFROM:+0100
TZOFFSETTO:+0200
TZNAME:CEST
DTSTART:20260329T010000
END:DAYLIGHT
BEGIN:STANDARD
TZOFFSETFROM:+0200
TZOFFSETTO:+0100
TZNAME:CET
DTSTART:20261025T010000
END:STANDARD
END:VTIMEZONE
BEGIN:VEVENT
DTSTART;TZID=Europe/Zurich:20260623T000000
DTEND;TZID=Europe/Zurich:20260626T000000
DTSTAMP:20260421T185550
CREATED:20260419T202342Z
LAST-MODIFIED:20260419T202342Z
UID:20914-1782172800-1782432000@faustballschlieren.ch
SUMMARY:Faustball U18/U18w WM und Frauen EM 2026
DESCRIPTION:
URL:https://faustballschlieren.ch/event/faustball-u18-u18w-wm-und-frauen-em-2026/
LOCATION:Reiden\, Sportplatz Kleinfeld\, Kleinfeld 1/5\, Reiden\, 6260
CATEGORIES:Verein allgemein
END:VEVENT
END:VCALENDAR