BEGIN:VCALENDAR
VERSION:2.0
PRODID:-//Faustball STV Schlieren - ECPv5.12.3//NONSGML v1.0//EN
CALSCALE:GREGORIAN
METHOD:PUBLISH
X-WR-CALNAME:Faustball STV Schlieren
X-ORIGINAL-URL:https://faustballschlieren.ch
X-WR-CALDESC:Events for Faustball STV Schlieren
REFRESH-INTERVAL;VALUE=DURATION:PT1H
X-Robots-Tag:noindex
X-PUBLISHED-TTL:PT1H
BEGIN:VTIMEZONE
TZID:Europe/Zurich
BEGIN:DAYLIGHT
TZOFFSETFROM:+0100
TZOFFSETTO:+0200
TZNAME:CEST
DTSTART:20230326T010000
END:DAYLIGHT
BEGIN:STANDARD
TZOFFSETFROM:+0200
TZOFFSETTO:+0100
TZNAME:CET
DTSTART:20231029T010000
END:STANDARD
BEGIN:DAYLIGHT
TZOFFSETFROM:+0100
TZOFFSETTO:+0200
TZNAME:CEST
DTSTART:20240331T010000
END:DAYLIGHT
BEGIN:STANDARD
TZOFFSETFROM:+0200
TZOFFSETTO:+0100
TZNAME:CET
DTSTART:20241027T010000
END:STANDARD
BEGIN:DAYLIGHT
TZOFFSETFROM:+0100
TZOFFSETTO:+0200
TZNAME:CEST
DTSTART:20250330T010000
END:DAYLIGHT
BEGIN:STANDARD
TZOFFSETFROM:+0200
TZOFFSETTO:+0100
TZNAME:CET
DTSTART:20251026T010000
END:STANDARD
END:VTIMEZONE
BEGIN:VEVENT
DTSTART;TZID=Europe/Zurich:20230827T100000
DTEND;TZID=Europe/Zurich:20230827T140000
DTSTAMP:20260423T101730
CREATED:20230822T160449Z
LAST-MODIFIED:20230822T160449Z
UID:18572-1693130400-1693144800@faustballschlieren.ch
SUMMARY:Nationalliga B Frauen Zweite Abstiegsrunde
DESCRIPTION:
URL:https://faustballschlieren.ch/event/nationalliga-b-frauen-zweite-abstiegsrunde/
LOCATION:Aardorf\, Sportplatz Ettenhausen\, Weidlistrasse 13\, Aadorf\, 8356
CATEGORIES:Elite Frauen
END:VEVENT
BEGIN:VEVENT
DTSTART;TZID=Europe/Zurich:20240616T110000
DTEND;TZID=Europe/Zurich:20240616T130000
DTSTAMP:20260423T101730
CREATED:20240228T180314Z
LAST-MODIFIED:20240428T220235Z
UID:19174-1718535600-1718542800@faustballschlieren.ch
SUMMARY:NLB Ost Männer 5. Runde
DESCRIPTION:
URL:https://faustballschlieren.ch/event/nlb-ost-maenner-5-runde/
LOCATION:Aardorf\, Sportplatz Ettenhausen\, Weidlistrasse 13\, Aadorf\, 8356
CATEGORIES:Elite Männer
END:VEVENT
BEGIN:VEVENT
DTSTART;TZID=Europe/Zurich:20250621T100000
DTEND;TZID=Europe/Zurich:20250621T130000
DTSTAMP:20260423T101730
CREATED:20250420T082340Z
LAST-MODIFIED:20250420T082340Z
UID:20036-1750500000-1750510800@faustballschlieren.ch
SUMMARY:NLB Ost Männer 5. Runde
DESCRIPTION:
URL:https://faustballschlieren.ch/event/nlb-ost-maenner-5-runde-2/
LOCATION:Aardorf\, Sportplatz Ettenhausen\, Weidlistrasse 13\, Aadorf\, 8356
CATEGORIES:Elite Männer
END:VEVENT
END:VCALENDAR